BEGIN:VCALENDAR
VERSION:2.0
PRODID:-//Kingsgrove Music School - ECPv6.15.20//NONSGML v1.0//EN
CALSCALE:GREGORIAN
METHOD:PUBLISH
X-ORIGINAL-URL:http://kingsgrovemusic.net.au/wordpress
X-WR-CALDESC:Events for Kingsgrove Music School
REFRESH-INTERVAL;VALUE=DURATION:PT1H
X-Robots-Tag:noindex
X-PUBLISHED-TTL:PT1H
BEGIN:VTIMEZONE
TZID:Australia/Melbourne
BEGIN:STANDARD
TZOFFSETFROM:+1100
TZOFFSETTO:+1000
TZNAME:AEST
DTSTART:20190406T160000
END:STANDARD
BEGIN:DAYLIGHT
TZOFFSETFROM:+1000
TZOFFSETTO:+1100
TZNAME:AEDT
DTSTART:20191005T160000
END:DAYLIGHT
BEGIN:STANDARD
TZOFFSETFROM:+1100
TZOFFSETTO:+1000
TZNAME:AEST
DTSTART:20200404T160000
END:STANDARD
BEGIN:DAYLIGHT
TZOFFSETFROM:+1000
TZOFFSETTO:+1100
TZNAME:AEDT
DTSTART:20201003T160000
END:DAYLIGHT
BEGIN:STANDARD
TZOFFSETFROM:+1100
TZOFFSETTO:+1000
TZNAME:AEST
DTSTART:20210403T160000
END:STANDARD
BEGIN:DAYLIGHT
TZOFFSETFROM:+1000
TZOFFSETTO:+1100
TZNAME:AEDT
DTSTART:20211002T160000
END:DAYLIGHT
END:VTIMEZONE
BEGIN:VEVENT
DTSTART;TZID=Australia/Melbourne:20200608T080000
DTEND;TZID=Australia/Melbourne:20200608T170000
DTSTAMP:20260425T035957
CREATED:20200108T024419Z
LAST-MODIFIED:20200108T024421Z
UID:693-1591603200-1591635600@kingsgrovemusic.net.au
SUMMARY:Term 3 Fees Due
DESCRIPTION:
URL:http://kingsgrovemusic.net.au/wordpress/event/term-3-fees-due-5/
LOCATION:Kingsgrove Music School\, 605 Forest Rd\, Bexley\, NSW\, 2207\, Australia
ORGANIZER;CN="Susan Turner":MAILTO:kingsgrovemusicschool@bigpond.com
END:VEVENT
BEGIN:VEVENT
DTSTART;TZID=Australia/Melbourne:20200608T080000
DTEND;TZID=Australia/Melbourne:20200608T170000
DTSTAMP:20260425T035957
CREATED:20200108T024724Z
LAST-MODIFIED:20200108T024726Z
UID:695-1591603200-1591635600@kingsgrovemusic.net.au
SUMMARY:No Lesson Due To Public Holiday (Queen's Birthday)
DESCRIPTION:
URL:http://kingsgrovemusic.net.au/wordpress/event/no-lesson-due-to-public-holiday-queens-birthday-2/
LOCATION:Kingsgrove Music School\, 605 Forest Rd\, Bexley\, NSW\, 2207\, Australia
ORGANIZER;CN="Susan Turner":MAILTO:kingsgrovemusicschool@bigpond.com
END:VEVENT
BEGIN:VEVENT
DTSTART;TZID=Australia/Melbourne:20200615T080000
DTEND;TZID=Australia/Melbourne:20200615T170000
DTSTAMP:20260425T035957
CREATED:20200108T024803Z
LAST-MODIFIED:20200108T024805Z
UID:697-1592208000-1592240400@kingsgrovemusic.net.au
SUMMARY:Studio Term 3 Begins
DESCRIPTION:
URL:http://kingsgrovemusic.net.au/wordpress/event/studio-term-3-begins/
LOCATION:Kingsgrove Music School\, 605 Forest Rd\, Bexley\, NSW\, 2207\, Australia
ORGANIZER;CN="Susan Turner":MAILTO:kingsgrovemusicschool@bigpond.com
END:VEVENT
END:VCALENDAR