BEGIN:VCALENDAR
VERSION:2.0
PRODID:-//Kingsgrove Music School - ECPv6.15.20//NONSGML v1.0//EN
CALSCALE:GREGORIAN
METHOD:PUBLISH
X-WR-CALNAME:Kingsgrove Music School
X-ORIGINAL-URL:http://kingsgrovemusic.net.au/wordpress
X-WR-CALDESC:Events for Kingsgrove Music School
REFRESH-INTERVAL;VALUE=DURATION:PT1H
X-Robots-Tag:noindex
X-PUBLISHED-TTL:PT1H
BEGIN:VTIMEZONE
TZID:Australia/Melbourne
BEGIN:STANDARD
TZOFFSETFROM:+1100
TZOFFSETTO:+1000
TZNAME:AEST
DTSTART:20180331T160000
END:STANDARD
BEGIN:DAYLIGHT
TZOFFSETFROM:+1000
TZOFFSETTO:+1100
TZNAME:AEDT
DTSTART:20181006T160000
END:DAYLIGHT
BEGIN:STANDARD
TZOFFSETFROM:+1100
TZOFFSETTO:+1000
TZNAME:AEST
DTSTART:20190406T160000
END:STANDARD
BEGIN:DAYLIGHT
TZOFFSETFROM:+1000
TZOFFSETTO:+1100
TZNAME:AEDT
DTSTART:20191005T160000
END:DAYLIGHT
BEGIN:STANDARD
TZOFFSETFROM:+1100
TZOFFSETTO:+1000
TZNAME:AEST
DTSTART:20200404T160000
END:STANDARD
BEGIN:DAYLIGHT
TZOFFSETFROM:+1000
TZOFFSETTO:+1100
TZNAME:AEDT
DTSTART:20201003T160000
END:DAYLIGHT
END:VTIMEZONE
BEGIN:VEVENT
DTSTART;VALUE=DATE:20190706
DTEND;VALUE=DATE:20190707
DTSTAMP:20260425T132254
CREATED:20190123T042641Z
LAST-MODIFIED:20190123T042641Z
UID:597-1562371200-1562457599@kingsgrovemusic.net.au
SUMMARY:*Note: There ARE lessons today!
DESCRIPTION:
URL:http://kingsgrovemusic.net.au/wordpress/event/note-there-are-lessons-today-2/
END:VEVENT
BEGIN:VEVENT
DTSTART;TZID=Australia/Melbourne:20190708T000000
DTEND;TZID=Australia/Melbourne:20190724T235900
DTSTAMP:20260425T132254
CREATED:20190123T041523Z
LAST-MODIFIED:20190123T044215Z
UID:572-1562544000-1564012740@kingsgrovemusic.net.au
SUMMARY:NSW Public School holidays
DESCRIPTION:*Note: Studio Holidays —make-up lessons only!
URL:http://kingsgrovemusic.net.au/wordpress/event/nsw-public-school-holidays-5/
END:VEVENT
BEGIN:VEVENT
DTSTART;TZID=Australia/Melbourne:20190729T000000
DTEND;TZID=Australia/Melbourne:20190729T235900
DTSTAMP:20260425T132254
CREATED:20190123T041601Z
LAST-MODIFIED:20190123T044250Z
UID:574-1564358400-1564444740@kingsgrovemusic.net.au
SUMMARY:2nd instalment of fees due
DESCRIPTION:
URL:http://kingsgrovemusic.net.au/wordpress/event/2nd-instalment-of-fees-due-9/
END:VEVENT
END:VCALENDAR