BEGIN:VCALENDAR
VERSION:2.0
PRODID:-//Kingsgrove Music School - ECPv6.15.20//NONSGML v1.0//EN
CALSCALE:GREGORIAN
METHOD:PUBLISH
X-ORIGINAL-URL:http://kingsgrovemusic.net.au/wordpress
X-WR-CALDESC:Events for Kingsgrove Music School
REFRESH-INTERVAL;VALUE=DURATION:PT1H
X-Robots-Tag:noindex
X-PUBLISHED-TTL:PT1H
BEGIN:VTIMEZONE
TZID:Australia/Melbourne
BEGIN:STANDARD
TZOFFSETFROM:+1100
TZOFFSETTO:+1000
TZNAME:AEST
DTSTART:20200404T160000
END:STANDARD
BEGIN:DAYLIGHT
TZOFFSETFROM:+1000
TZOFFSETTO:+1100
TZNAME:AEDT
DTSTART:20201003T160000
END:DAYLIGHT
BEGIN:STANDARD
TZOFFSETFROM:+1100
TZOFFSETTO:+1000
TZNAME:AEST
DTSTART:20210403T160000
END:STANDARD
BEGIN:DAYLIGHT
TZOFFSETFROM:+1000
TZOFFSETTO:+1100
TZNAME:AEDT
DTSTART:20211002T160000
END:DAYLIGHT
BEGIN:STANDARD
TZOFFSETFROM:+1100
TZOFFSETTO:+1000
TZNAME:AEST
DTSTART:20220402T160000
END:STANDARD
BEGIN:DAYLIGHT
TZOFFSETFROM:+1000
TZOFFSETTO:+1100
TZNAME:AEDT
DTSTART:20221001T160000
END:DAYLIGHT
BEGIN:STANDARD
TZOFFSETFROM:+1100
TZOFFSETTO:+1000
TZNAME:AEST
DTSTART:20230401T160000
END:STANDARD
BEGIN:DAYLIGHT
TZOFFSETFROM:+1000
TZOFFSETTO:+1100
TZNAME:AEDT
DTSTART:20230930T160000
END:DAYLIGHT
BEGIN:STANDARD
TZOFFSETFROM:+1100
TZOFFSETTO:+1000
TZNAME:AEST
DTSTART:20240406T160000
END:STANDARD
BEGIN:DAYLIGHT
TZOFFSETFROM:+1000
TZOFFSETTO:+1100
TZNAME:AEDT
DTSTART:20241005T160000
END:DAYLIGHT
END:VTIMEZONE
BEGIN:VEVENT
DTSTART;TZID=Australia/Melbourne:20211004T080000
DTEND;TZID=Australia/Melbourne:20211004T170000
DTSTAMP:20260426T025842
CREATED:20210128T222827Z
LAST-MODIFIED:20210128T222828Z
UID:811-1633334400-1633366800@kingsgrovemusic.net.au
SUMMARY:No lessons due to public holiday
DESCRIPTION:
URL:http://kingsgrovemusic.net.au/wordpress/event/no-lessons-due-to-public-holiday-2/
END:VEVENT
BEGIN:VEVENT
DTSTART;TZID=Australia/Melbourne:20211004T080000
DTEND;TZID=Australia/Melbourne:20211004T170000
DTSTAMP:20260426T025842
CREATED:20210128T222929Z
LAST-MODIFIED:20210128T222930Z
UID:815-1633334400-1633366800@kingsgrovemusic.net.au
SUMMARY:2nd instalment of fees due
DESCRIPTION:
URL:http://kingsgrovemusic.net.au/wordpress/event/2nd-instalment-of-fees-due-15/
END:VEVENT
BEGIN:VEVENT
DTSTART;TZID=Australia/Melbourne:20211108T080000
DTEND;TZID=Australia/Melbourne:20211108T170000
DTSTAMP:20260426T025842
CREATED:20210128T223209Z
LAST-MODIFIED:20210128T223210Z
UID:817-1636358400-1636390800@kingsgrovemusic.net.au
SUMMARY:Term 5 fees due
DESCRIPTION:
URL:http://kingsgrovemusic.net.au/wordpress/event/term-5-fees-due-5/
END:VEVENT
BEGIN:VEVENT
DTSTART;TZID=Australia/Melbourne:20211115T080000
DTEND;TZID=Australia/Melbourne:20211115T170000
DTSTAMP:20260426T025842
CREATED:20210128T223232Z
LAST-MODIFIED:20210128T223233Z
UID:819-1636963200-1636995600@kingsgrovemusic.net.au
SUMMARY:Studio Term 5 begins
DESCRIPTION:
URL:http://kingsgrovemusic.net.au/wordpress/event/studio-term-5-begins-2/
END:VEVENT
BEGIN:VEVENT
DTSTART;TZID=Australia/Melbourne:20211206T080000
DTEND;TZID=Australia/Melbourne:20211206T170000
DTSTAMP:20260426T025842
CREATED:20210128T223306Z
LAST-MODIFIED:20210128T223307Z
UID:821-1638777600-1638810000@kingsgrovemusic.net.au
SUMMARY:Term 5 ends
DESCRIPTION:
URL:http://kingsgrovemusic.net.au/wordpress/event/term-5-ends-2/
END:VEVENT
BEGIN:VEVENT
DTSTART;TZID=Australia/Melbourne:20211206T080000
DTEND;TZID=Australia/Melbourne:20211206T170000
DTSTAMP:20260426T025842
CREATED:20210128T223345Z
LAST-MODIFIED:20210128T223346Z
UID:823-1638777600-1638810000@kingsgrovemusic.net.au
SUMMARY:Register for 2022 – $50 deposit
DESCRIPTION:
URL:http://kingsgrovemusic.net.au/wordpress/event/register-for-2022-50-deposit/
END:VEVENT
BEGIN:VEVENT
DTSTART;TZID=Australia/Melbourne:20211206T080000
DTEND;TZID=Australia/Melbourne:20211206T170000
DTSTAMP:20260426T025842
CREATED:20210128T223412Z
LAST-MODIFIED:20210128T223413Z
UID:825-1638777600-1638810000@kingsgrovemusic.net.au
SUMMARY:Annual Concert TBC
DESCRIPTION:
URL:http://kingsgrovemusic.net.au/wordpress/event/annual-concert-tbc/
END:VEVENT
BEGIN:VEVENT
DTSTART;TZID=Australia/Melbourne:20211213T080000
DTEND;TZID=Australia/Melbourne:20211213T170000
DTSTAMP:20260426T025842
CREATED:20210128T223438Z
LAST-MODIFIED:20210128T223439Z
UID:827-1639382400-1639414800@kingsgrovemusic.net.au
SUMMARY:Make up lessons
DESCRIPTION:
URL:http://kingsgrovemusic.net.au/wordpress/event/make-up-lessons/
END:VEVENT
BEGIN:VEVENT
DTSTART;TZID=Australia/Melbourne:20221230T000000
DTEND;TZID=Australia/Melbourne:20221230T235959
DTSTAMP:20260426T025842
CREATED:20221228T100021Z
LAST-MODIFIED:20221228T100022Z
UID:953-1672358400-1672444799@kingsgrovemusic.net.au
SUMMARY:Term 1 fees due
DESCRIPTION:
URL:http://kingsgrovemusic.net.au/wordpress/event/term-1-fees-due-2/
END:VEVENT
BEGIN:VEVENT
DTSTART;TZID=Australia/Melbourne:20230127T080000
DTEND;TZID=Australia/Melbourne:20230127T150000
DTSTAMP:20260426T025842
CREATED:20221228T101850Z
LAST-MODIFIED:20221228T101851Z
UID:1003-1674806400-1674831600@kingsgrovemusic.net.au
SUMMARY:First Day of School
DESCRIPTION:
URL:http://kingsgrovemusic.net.au/wordpress/event/first-day-of-school/
END:VEVENT
BEGIN:VEVENT
DTSTART;TZID=Australia/Melbourne:20230227T000000
DTEND;TZID=Australia/Melbourne:20230227T235959
DTSTAMP:20260426T025842
CREATED:20221228T100120Z
LAST-MODIFIED:20221228T100121Z
UID:955-1677456000-1677542399@kingsgrovemusic.net.au
SUMMARY:2nd instalment of fees due
DESCRIPTION:
URL:http://kingsgrovemusic.net.au/wordpress/event/2nd-instalment-of-fees-due-3/
END:VEVENT
BEGIN:VEVENT
DTSTART;TZID=Australia/Melbourne:20230403T000000
DTEND;TZID=Australia/Melbourne:20230403T235959
DTSTAMP:20260426T025842
CREATED:20221228T100209Z
LAST-MODIFIED:20221228T100210Z
UID:957-1680480000-1680566399@kingsgrovemusic.net.au
SUMMARY:Term 2 fees due
DESCRIPTION:
URL:http://kingsgrovemusic.net.au/wordpress/event/term-2-fees-due-2/
END:VEVENT
BEGIN:VEVENT
DTSTART;TZID=Australia/Melbourne:20230407T000000
DTEND;TZID=Australia/Melbourne:20230410T235959
DTSTAMP:20260426T025842
CREATED:20221228T100319Z
LAST-MODIFIED:20221228T102032Z
UID:959-1680825600-1681171199@kingsgrovemusic.net.au
SUMMARY:No lessons due to Easter public holiday
DESCRIPTION:
URL:http://kingsgrovemusic.net.au/wordpress/event/no-lesson-due-to-easter-public-holiday/
END:VEVENT
BEGIN:VEVENT
DTSTART;TZID=Australia/Melbourne:20230407T000000
DTEND;TZID=Australia/Melbourne:20230423T235959
DTSTAMP:20260426T025842
CREATED:20221228T101931Z
LAST-MODIFIED:20221228T101932Z
UID:1005-1680825600-1682294399@kingsgrovemusic.net.au
SUMMARY:Public School Holidays
DESCRIPTION:
URL:http://kingsgrovemusic.net.au/wordpress/event/public-school-holidays-2/
END:VEVENT
BEGIN:VEVENT
DTSTART;TZID=Australia/Melbourne:20230410T000000
DTEND;TZID=Australia/Melbourne:20230410T235959
DTSTAMP:20260426T025842
CREATED:20221228T100357Z
LAST-MODIFIED:20221228T100358Z
UID:961-1681084800-1681171199@kingsgrovemusic.net.au
SUMMARY:Studio Term 2 begins
DESCRIPTION:
URL:http://kingsgrovemusic.net.au/wordpress/event/studio-term-2-begins-3/
END:VEVENT
BEGIN:VEVENT
DTSTART;TZID=Australia/Melbourne:20230425T000000
DTEND;TZID=Australia/Melbourne:20230425T235959
DTSTAMP:20260426T025842
CREATED:20221228T100552Z
LAST-MODIFIED:20221228T100553Z
UID:963-1682380800-1682467199@kingsgrovemusic.net.au
SUMMARY:No lessons due to public holiday
DESCRIPTION:
URL:http://kingsgrovemusic.net.au/wordpress/event/no-lessons-due-to-public-holiday-3/
END:VEVENT
BEGIN:VEVENT
DTSTART;TZID=Australia/Melbourne:20230508T000000
DTEND;TZID=Australia/Melbourne:20230508T235959
DTSTAMP:20260426T025842
CREATED:20221228T100614Z
LAST-MODIFIED:20221228T100615Z
UID:965-1683504000-1683590399@kingsgrovemusic.net.au
SUMMARY:2nd instalment of fees due
DESCRIPTION:
URL:http://kingsgrovemusic.net.au/wordpress/event/2nd-instalment-of-fees-due-4/
END:VEVENT
BEGIN:VEVENT
DTSTART;TZID=Australia/Melbourne:20230612T000000
DTEND;TZID=Australia/Melbourne:20230612T235959
DTSTAMP:20260426T025842
CREATED:20221228T100638Z
LAST-MODIFIED:20221228T100640Z
UID:967-1686528000-1686614399@kingsgrovemusic.net.au
SUMMARY:Term 3 fees due
DESCRIPTION:
URL:http://kingsgrovemusic.net.au/wordpress/event/term-3-fees-due-3/
END:VEVENT
BEGIN:VEVENT
DTSTART;TZID=Australia/Melbourne:20230612T000000
DTEND;TZID=Australia/Melbourne:20230612T235959
DTSTAMP:20260426T025842
CREATED:20221228T100717Z
LAST-MODIFIED:20221228T100718Z
UID:969-1686528000-1686614399@kingsgrovemusic.net.au
SUMMARY:No lessons due to public holiday
DESCRIPTION:
URL:http://kingsgrovemusic.net.au/wordpress/event/no-lessons-due-to-public-holiday-4/
END:VEVENT
BEGIN:VEVENT
DTSTART;TZID=Australia/Melbourne:20230619T000000
DTEND;TZID=Australia/Melbourne:20230619T235959
DTSTAMP:20260426T025842
CREATED:20221228T100743Z
LAST-MODIFIED:20221228T100745Z
UID:971-1687132800-1687219199@kingsgrovemusic.net.au
SUMMARY:Studio Term 3 begins
DESCRIPTION:
URL:http://kingsgrovemusic.net.au/wordpress/event/studio-term-3-begins-3/
END:VEVENT
BEGIN:VEVENT
DTSTART;TZID=Australia/Melbourne:20230626T000000
DTEND;TZID=Australia/Melbourne:20230626T235959
DTSTAMP:20260426T025842
CREATED:20221228T100848Z
LAST-MODIFIED:20221228T100849Z
UID:973-1687737600-1687823999@kingsgrovemusic.net.au
SUMMARY:*Note: there ARE lessons on 1 July
DESCRIPTION:
URL:http://kingsgrovemusic.net.au/wordpress/event/note-there-are-lessons-on-1-july/
END:VEVENT
BEGIN:VEVENT
DTSTART;TZID=Australia/Melbourne:20230703T000000
DTEND;TZID=Australia/Melbourne:20230716T235959
DTSTAMP:20260426T025842
CREATED:20221228T101136Z
LAST-MODIFIED:20221228T101137Z
UID:975-1688342400-1689551999@kingsgrovemusic.net.au
SUMMARY:Studio Holidays – Make up lessons only
DESCRIPTION:
URL:http://kingsgrovemusic.net.au/wordpress/event/studio-holidays-make-up-lessons-only/
END:VEVENT
BEGIN:VEVENT
DTSTART;TZID=Australia/Melbourne:20230731T000000
DTEND;TZID=Australia/Melbourne:20230731T235959
DTSTAMP:20260426T025842
CREATED:20221228T101203Z
LAST-MODIFIED:20221228T101204Z
UID:977-1690761600-1690847999@kingsgrovemusic.net.au
SUMMARY:2nd instalment of fees due
DESCRIPTION:
URL:http://kingsgrovemusic.net.au/wordpress/event/2nd-instalment-of-fees-due-5/
END:VEVENT
BEGIN:VEVENT
DTSTART;TZID=Australia/Melbourne:20230904T000000
DTEND;TZID=Australia/Melbourne:20230904T235959
DTSTAMP:20260426T025842
CREATED:20221228T101227Z
LAST-MODIFIED:20221228T101228Z
UID:979-1693785600-1693871999@kingsgrovemusic.net.au
SUMMARY:Term 4 fees due
DESCRIPTION:
URL:http://kingsgrovemusic.net.au/wordpress/event/term-4-fees-due-2/
END:VEVENT
BEGIN:VEVENT
DTSTART;TZID=Australia/Melbourne:20230911T000000
DTEND;TZID=Australia/Melbourne:20230911T235959
DTSTAMP:20260426T025842
CREATED:20221228T101249Z
LAST-MODIFIED:20221228T101251Z
UID:981-1694390400-1694476799@kingsgrovemusic.net.au
SUMMARY:Studio Term 4 begins
DESCRIPTION:
URL:http://kingsgrovemusic.net.au/wordpress/event/studio-term-4-begins-3/
END:VEVENT
BEGIN:VEVENT
DTSTART;TZID=Australia/Melbourne:20230918T000000
DTEND;TZID=Australia/Melbourne:20230918T235959
DTSTAMP:20260426T025842
CREATED:20221228T101332Z
LAST-MODIFIED:20221228T101333Z
UID:983-1694995200-1695081599@kingsgrovemusic.net.au
SUMMARY:*Note: there ARE lessons on Saturday\, 23 September
DESCRIPTION:
URL:http://kingsgrovemusic.net.au/wordpress/event/note-there-are-lessons-on-saturday-23-september/
END:VEVENT
BEGIN:VEVENT
DTSTART;TZID=Australia/Melbourne:20230925T000000
DTEND;TZID=Australia/Melbourne:20231008T235959
DTSTAMP:20260426T025842
CREATED:20221228T101427Z
LAST-MODIFIED:20221228T101428Z
UID:985-1695600000-1696809599@kingsgrovemusic.net.au
SUMMARY:Public School Holidays
DESCRIPTION:
URL:http://kingsgrovemusic.net.au/wordpress/event/public-school-holidays/
END:VEVENT
BEGIN:VEVENT
DTSTART;TZID=Australia/Melbourne:20231002T000000
DTEND;TZID=Australia/Melbourne:20231002T235959
DTSTAMP:20260426T025842
CREATED:20221228T101502Z
LAST-MODIFIED:20221228T101505Z
UID:987-1696204800-1696291199@kingsgrovemusic.net.au
SUMMARY:No lessons due to public holiday
DESCRIPTION:
URL:http://kingsgrovemusic.net.au/wordpress/event/no-lessons-due-to-public-holiday-5/
END:VEVENT
BEGIN:VEVENT
DTSTART;TZID=Australia/Melbourne:20231009T000000
DTEND;TZID=Australia/Melbourne:20231009T235959
DTSTAMP:20260426T025842
CREATED:20221228T101522Z
LAST-MODIFIED:20221228T101524Z
UID:989-1696809600-1696895999@kingsgrovemusic.net.au
SUMMARY:2nd instalment of fees due
DESCRIPTION:
URL:http://kingsgrovemusic.net.au/wordpress/event/2nd-instalment-of-fees-due-6/
END:VEVENT
BEGIN:VEVENT
DTSTART;TZID=Australia/Melbourne:20231113T000000
DTEND;TZID=Australia/Melbourne:20231113T235959
DTSTAMP:20260426T025842
CREATED:20221228T101542Z
LAST-MODIFIED:20221228T101543Z
UID:991-1699833600-1699919999@kingsgrovemusic.net.au
SUMMARY:Term 5 fees due
DESCRIPTION:
URL:http://kingsgrovemusic.net.au/wordpress/event/term-5-fees-due-2/
END:VEVENT
END:VCALENDAR