BEGIN:VCALENDAR
VERSION:2.0
PRODID:-//Kingsgrove Music School - ECPv6.15.20//NONSGML v1.0//EN
CALSCALE:GREGORIAN
METHOD:PUBLISH
X-ORIGINAL-URL:http://kingsgrovemusic.net.au/wordpress
X-WR-CALDESC:Events for Kingsgrove Music School
REFRESH-INTERVAL;VALUE=DURATION:PT1H
X-Robots-Tag:noindex
X-PUBLISHED-TTL:PT1H
BEGIN:VTIMEZONE
TZID:Australia/Melbourne
BEGIN:STANDARD
TZOFFSETFROM:+1100
TZOFFSETTO:+1000
TZNAME:AEST
DTSTART:20230401T160000
END:STANDARD
BEGIN:DAYLIGHT
TZOFFSETFROM:+1000
TZOFFSETTO:+1100
TZNAME:AEDT
DTSTART:20230930T160000
END:DAYLIGHT
BEGIN:STANDARD
TZOFFSETFROM:+1100
TZOFFSETTO:+1000
TZNAME:AEST
DTSTART:20240406T160000
END:STANDARD
BEGIN:DAYLIGHT
TZOFFSETFROM:+1000
TZOFFSETTO:+1100
TZNAME:AEDT
DTSTART:20241005T160000
END:DAYLIGHT
BEGIN:STANDARD
TZOFFSETFROM:+1100
TZOFFSETTO:+1000
TZNAME:AEST
DTSTART:20250405T160000
END:STANDARD
BEGIN:DAYLIGHT
TZOFFSETFROM:+1000
TZOFFSETTO:+1100
TZNAME:AEDT
DTSTART:20251004T160000
END:DAYLIGHT
BEGIN:STANDARD
TZOFFSETFROM:+1100
TZOFFSETTO:+1000
TZNAME:AEST
DTSTART:20260404T160000
END:STANDARD
BEGIN:DAYLIGHT
TZOFFSETFROM:+1000
TZOFFSETTO:+1100
TZNAME:AEDT
DTSTART:20261003T160000
END:DAYLIGHT
BEGIN:STANDARD
TZOFFSETFROM:+1100
TZOFFSETTO:+1000
TZNAME:AEST
DTSTART:20270403T160000
END:STANDARD
BEGIN:DAYLIGHT
TZOFFSETFROM:+1000
TZOFFSETTO:+1100
TZNAME:AEDT
DTSTART:20271002T160000
END:DAYLIGHT
END:VTIMEZONE
BEGIN:VEVENT
DTSTART;TZID=Australia/Melbourne:20260126T000000
DTEND;TZID=Australia/Melbourne:20260126T235959
DTSTAMP:20260425T054506
CREATED:20260123T061314Z
LAST-MODIFIED:20260123T061444Z
UID:1186-1769385600-1769471999@kingsgrovemusic.net.au
SUMMARY:Term 1 fees due
DESCRIPTION:
URL:http://kingsgrovemusic.net.au/wordpress/event/term-1-fees-due-7/
END:VEVENT
BEGIN:VEVENT
DTSTART;TZID=Australia/Melbourne:20260126T000000
DTEND;TZID=Australia/Melbourne:20260126T235959
DTSTAMP:20260425T054506
CREATED:20260123T061136Z
LAST-MODIFIED:20260123T061159Z
UID:1184-1769385600-1769471999@kingsgrovemusic.net.au
SUMMARY:Australia Day
DESCRIPTION:Some teachers work on public holidays
URL:http://kingsgrovemusic.net.au/wordpress/event/australia-day/
END:VEVENT
BEGIN:VEVENT
DTSTART;TZID=Australia/Melbourne:20260123T080000
DTEND;TZID=Australia/Melbourne:20260123T170000
DTSTAMP:20260425T054506
CREATED:20260123T062918Z
LAST-MODIFIED:20260123T062921Z
UID:1218-1769155200-1769187600@kingsgrovemusic.net.au
SUMMARY:*Note – there ARE lessons on Saturday\, 27 September
DESCRIPTION:
URL:http://kingsgrovemusic.net.au/wordpress/event/note-there-are-lessons-on-saturday-27-september/
END:VEVENT
BEGIN:VEVENT
DTSTART;TZID=Australia/Melbourne:20251222T000000
DTEND;TZID=Australia/Melbourne:20251222T235959
DTSTAMP:20260425T054506
CREATED:20250122T003745Z
LAST-MODIFIED:20250122T003745Z
UID:1158-1766361600-1766447999@kingsgrovemusic.net.au
SUMMARY:Make up lessons
DESCRIPTION:
URL:http://kingsgrovemusic.net.au/wordpress/event/make-up-lessons-4/
END:VEVENT
BEGIN:VEVENT
DTSTART;TZID=Australia/Melbourne:20251219T000000
DTEND;TZID=Australia/Melbourne:20251219T235959
DTSTAMP:20260425T054506
CREATED:20250122T003808Z
LAST-MODIFIED:20250122T003838Z
UID:1160-1766102400-1766188799@kingsgrovemusic.net.au
SUMMARY:Term ends
DESCRIPTION:Register for 2026 —$50 deposit required
URL:http://kingsgrovemusic.net.au/wordpress/event/term-ends-3/
END:VEVENT
BEGIN:VEVENT
DTSTART;TZID=Australia/Melbourne:20251124T000000
DTEND;TZID=Australia/Melbourne:20251124T235959
DTSTAMP:20260425T054506
CREATED:20250122T003708Z
LAST-MODIFIED:20250122T003708Z
UID:1156-1763942400-1764028799@kingsgrovemusic.net.au
SUMMARY:Studio Term 5 begins
DESCRIPTION:
URL:http://kingsgrovemusic.net.au/wordpress/event/studio-term-5-begins-4/
END:VEVENT
BEGIN:VEVENT
DTSTART;TZID=Australia/Melbourne:20251117T000000
DTEND;TZID=Australia/Melbourne:20251117T235959
DTSTAMP:20260425T054506
CREATED:20250122T003640Z
LAST-MODIFIED:20250122T003640Z
UID:1154-1763337600-1763423999@kingsgrovemusic.net.au
SUMMARY:Term 5 fees due
DESCRIPTION:
URL:http://kingsgrovemusic.net.au/wordpress/event/term-5-fees-due-7/
END:VEVENT
BEGIN:VEVENT
DTSTART;TZID=Australia/Melbourne:20251013T000000
DTEND;TZID=Australia/Melbourne:20251013T235959
DTSTAMP:20260425T054506
CREATED:20250122T003617Z
LAST-MODIFIED:20250122T003617Z
UID:1152-1760313600-1760399999@kingsgrovemusic.net.au
SUMMARY:2nd instalment of fees due
DESCRIPTION:
URL:http://kingsgrovemusic.net.au/wordpress/event/2nd-instalment-of-fees-due-22/
END:VEVENT
BEGIN:VEVENT
DTSTART;TZID=Australia/Melbourne:20251006T000000
DTEND;TZID=Australia/Melbourne:20251006T235959
DTSTAMP:20260425T054506
CREATED:20250122T003552Z
LAST-MODIFIED:20250122T003552Z
UID:1150-1759708800-1759795199@kingsgrovemusic.net.au
SUMMARY:No lessons due to public holiday
DESCRIPTION:
URL:http://kingsgrovemusic.net.au/wordpress/event/no-lessons-due-to-public-holiday-10/
END:VEVENT
BEGIN:VEVENT
DTSTART;TZID=Australia/Melbourne:20250927T000000
DTEND;TZID=Australia/Melbourne:20250927T235959
DTSTAMP:20260425T054506
CREATED:20250122T003448Z
LAST-MODIFIED:20250122T003448Z
UID:1146-1758931200-1759017599@kingsgrovemusic.net.au
SUMMARY:There ARE lessons on Saturday\, 27 Sept
DESCRIPTION:
URL:http://kingsgrovemusic.net.au/wordpress/event/there-are-lessons-on-saturday-27-sept/
END:VEVENT
BEGIN:VEVENT
DTSTART;TZID=Australia/Melbourne:20250922T000000
DTEND;TZID=Australia/Melbourne:20251005T235959
DTSTAMP:20260425T054506
CREATED:20250122T003526Z
LAST-MODIFIED:20250122T003526Z
UID:1148-1758499200-1759708799@kingsgrovemusic.net.au
SUMMARY:Public School Holidays
DESCRIPTION:
URL:http://kingsgrovemusic.net.au/wordpress/event/public-school-holidays-5/
END:VEVENT
BEGIN:VEVENT
DTSTART;TZID=Australia/Melbourne:20250915T000000
DTEND;TZID=Australia/Melbourne:20250915T235959
DTSTAMP:20260425T054506
CREATED:20250122T003405Z
LAST-MODIFIED:20250122T003405Z
UID:1144-1757894400-1757980799@kingsgrovemusic.net.au
SUMMARY:Studio Term 4 begins
DESCRIPTION:
URL:http://kingsgrovemusic.net.au/wordpress/event/studio-term-4-begins-5/
END:VEVENT
BEGIN:VEVENT
DTSTART;TZID=Australia/Melbourne:20250908T000000
DTEND;TZID=Australia/Melbourne:20250908T235959
DTSTAMP:20260425T054506
CREATED:20250122T003343Z
LAST-MODIFIED:20250122T003343Z
UID:1142-1757289600-1757375999@kingsgrovemusic.net.au
SUMMARY:Term 4 fees due
DESCRIPTION:
URL:http://kingsgrovemusic.net.au/wordpress/event/term-4-fees-due-7/
END:VEVENT
BEGIN:VEVENT
DTSTART;TZID=Australia/Melbourne:20250804T000000
DTEND;TZID=Australia/Melbourne:20250804T235959
DTSTAMP:20260425T054506
CREATED:20250122T003320Z
LAST-MODIFIED:20250122T003320Z
UID:1140-1754265600-1754351999@kingsgrovemusic.net.au
SUMMARY:2nd instalment of fees due
DESCRIPTION:
URL:http://kingsgrovemusic.net.au/wordpress/event/2nd-instalment-of-fees-due-21/
END:VEVENT
BEGIN:VEVENT
DTSTART;TZID=Australia/Melbourne:20250707T000000
DTEND;TZID=Australia/Melbourne:20250720T235959
DTSTAMP:20260425T054506
CREATED:20250122T003252Z
LAST-MODIFIED:20250122T003252Z
UID:1138-1751846400-1753055999@kingsgrovemusic.net.au
SUMMARY:Studio Holidays –make-up lessons only
DESCRIPTION:
URL:http://kingsgrovemusic.net.au/wordpress/event/studio-holidays-make-up-lessons-only-2/
END:VEVENT
BEGIN:VEVENT
DTSTART;TZID=Australia/Melbourne:20250707T000000
DTEND;TZID=Australia/Melbourne:20250720T235959
DTSTAMP:20260425T054506
CREATED:20250122T003213Z
LAST-MODIFIED:20250122T003213Z
UID:1136-1751846400-1753055999@kingsgrovemusic.net.au
SUMMARY:Public School Holidays
DESCRIPTION:
URL:http://kingsgrovemusic.net.au/wordpress/event/public-school-holidays-4/
END:VEVENT
BEGIN:VEVENT
DTSTART;TZID=Australia/Melbourne:20250705T000000
DTEND;TZID=Australia/Melbourne:20250705T235959
DTSTAMP:20260425T054506
CREATED:20250122T003138Z
LAST-MODIFIED:20250122T003138Z
UID:1134-1751673600-1751759999@kingsgrovemusic.net.au
SUMMARY:There ARE lessons on Saturday\, 5 July
DESCRIPTION:
URL:http://kingsgrovemusic.net.au/wordpress/event/there-are-lessons-on-saturday-5-july/
END:VEVENT
BEGIN:VEVENT
DTSTART;TZID=Australia/Melbourne:20250623T000000
DTEND;TZID=Australia/Melbourne:20250623T235959
DTSTAMP:20260425T054506
CREATED:20250122T003046Z
LAST-MODIFIED:20250122T003046Z
UID:1132-1750636800-1750723199@kingsgrovemusic.net.au
SUMMARY:Studio Term 3 begins
DESCRIPTION:
URL:http://kingsgrovemusic.net.au/wordpress/event/studio-term-3-begins-5/
END:VEVENT
BEGIN:VEVENT
DTSTART;TZID=Australia/Melbourne:20250616T000000
DTEND;TZID=Australia/Melbourne:20250616T235959
DTSTAMP:20260425T054506
CREATED:20250122T003018Z
LAST-MODIFIED:20250122T003018Z
UID:1130-1750032000-1750118399@kingsgrovemusic.net.au
SUMMARY:Term 3 fees due
DESCRIPTION:
URL:http://kingsgrovemusic.net.au/wordpress/event/term-3-fees-due-8/
END:VEVENT
BEGIN:VEVENT
DTSTART;TZID=Australia/Melbourne:20250609T000000
DTEND;TZID=Australia/Melbourne:20250609T235959
DTSTAMP:20260425T054506
CREATED:20250122T002832Z
LAST-MODIFIED:20250122T002832Z
UID:1128-1749427200-1749513599@kingsgrovemusic.net.au
SUMMARY:No lessons due to public holiday
DESCRIPTION:
URL:http://kingsgrovemusic.net.au/wordpress/event/no-lessons-due-to-public-holiday-9/
END:VEVENT
BEGIN:VEVENT
DTSTART;TZID=Australia/Melbourne:20250512T000000
DTEND;TZID=Australia/Melbourne:20250512T235959
DTSTAMP:20260425T054506
CREATED:20250122T002755Z
LAST-MODIFIED:20250122T002755Z
UID:1126-1747008000-1747094399@kingsgrovemusic.net.au
SUMMARY:2nd instalment of fees due
DESCRIPTION:
URL:http://kingsgrovemusic.net.au/wordpress/event/2nd-instalment-of-fees-due-20/
END:VEVENT
BEGIN:VEVENT
DTSTART;TZID=Australia/Melbourne:20250425T000000
DTEND;TZID=Australia/Melbourne:20250425T235959
DTSTAMP:20260425T054506
CREATED:20250122T002727Z
LAST-MODIFIED:20250122T002727Z
UID:1124-1745539200-1745625599@kingsgrovemusic.net.au
SUMMARY:No lessons due to public holiday
DESCRIPTION:
URL:http://kingsgrovemusic.net.au/wordpress/event/no-lessons-due-to-public-holiday-8/
END:VEVENT
BEGIN:VEVENT
DTSTART;TZID=Australia/Melbourne:20250421T000000
DTEND;TZID=Australia/Melbourne:20250421T235959
DTSTAMP:20260425T054506
CREATED:20250122T002617Z
LAST-MODIFIED:20250122T002617Z
UID:1122-1745193600-1745279999@kingsgrovemusic.net.au
SUMMARY:No lessons due to public holiday
DESCRIPTION:
URL:http://kingsgrovemusic.net.au/wordpress/event/no-lessons-due-to-public-holiday-7/
END:VEVENT
BEGIN:VEVENT
DTSTART;TZID=Australia/Melbourne:20250418T000000
DTEND;TZID=Australia/Melbourne:20250419T235959
DTSTAMP:20260425T054506
CREATED:20250122T002548Z
LAST-MODIFIED:20250122T002548Z
UID:1120-1744934400-1745107199@kingsgrovemusic.net.au
SUMMARY:No lessons due to public holiday
DESCRIPTION:
URL:http://kingsgrovemusic.net.au/wordpress/event/no-lessons-due-to-public-holiday-6/
END:VEVENT
BEGIN:VEVENT
DTSTART;TZID=Australia/Melbourne:20250414T000000
DTEND;TZID=Australia/Melbourne:20250427T235959
DTSTAMP:20260425T054506
CREATED:20250122T002357Z
LAST-MODIFIED:20250122T002357Z
UID:1116-1744588800-1745798399@kingsgrovemusic.net.au
SUMMARY:Public School Holidays
DESCRIPTION:
URL:http://kingsgrovemusic.net.au/wordpress/event/public-school-holidays-3/
END:VEVENT
BEGIN:VEVENT
DTSTART;TZID=Australia/Melbourne:20250414T000000
DTEND;TZID=Australia/Melbourne:20250414T235959
DTSTAMP:20260425T054506
CREATED:20250122T002435Z
LAST-MODIFIED:20250122T002435Z
UID:1118-1744588800-1744675199@kingsgrovemusic.net.au
SUMMARY:Studio Term 2 begins
DESCRIPTION:
URL:http://kingsgrovemusic.net.au/wordpress/event/studio-term-2-begins-5/
END:VEVENT
BEGIN:VEVENT
DTSTART;TZID=Australia/Melbourne:20250407T000000
DTEND;TZID=Australia/Melbourne:20250407T235959
DTSTAMP:20260425T054506
CREATED:20250122T002310Z
LAST-MODIFIED:20250122T002310Z
UID:1114-1743984000-1744070399@kingsgrovemusic.net.au
SUMMARY:Term 2 fees due
DESCRIPTION:
URL:http://kingsgrovemusic.net.au/wordpress/event/term-2-fees-due-6/
END:VEVENT
BEGIN:VEVENT
DTSTART;TZID=Australia/Melbourne:20250303T000000
DTEND;TZID=Australia/Melbourne:20250303T235959
DTSTAMP:20260425T054506
CREATED:20250122T002158Z
LAST-MODIFIED:20250122T002158Z
UID:1112-1740960000-1741046399@kingsgrovemusic.net.au
SUMMARY:2nd instalment of fees due
DESCRIPTION:
URL:http://kingsgrovemusic.net.au/wordpress/event/2nd-instalment-of-fees-due-19/
END:VEVENT
BEGIN:VEVENT
DTSTART;TZID=Australia/Melbourne:20250202T000000
DTEND;TZID=Australia/Melbourne:20250202T235959
DTSTAMP:20260425T054506
CREATED:20250122T002121Z
LAST-MODIFIED:20250122T002122Z
UID:1110-1738454400-1738540799@kingsgrovemusic.net.au
SUMMARY:Term 1 fees due
DESCRIPTION:
URL:http://kingsgrovemusic.net.au/wordpress/event/term-1-fees-due-6/
END:VEVENT
BEGIN:VEVENT
DTSTART;TZID=Australia/Melbourne:20241216T000000
DTEND;TZID=Australia/Melbourne:20241222T235959
DTSTAMP:20260425T054506
CREATED:20240121T224106Z
LAST-MODIFIED:20240121T224108Z
UID:1080-1734307200-1734911999@kingsgrovemusic.net.au
SUMMARY:Make-up lessons
DESCRIPTION:
URL:http://kingsgrovemusic.net.au/wordpress/event/make-up-lessons-3/
END:VEVENT
END:VCALENDAR