BEGIN:VCALENDAR
VERSION:2.0
PRODID:-//Kingsgrove Music School - ECPv6.15.20//NONSGML v1.0//EN
CALSCALE:GREGORIAN
METHOD:PUBLISH
X-ORIGINAL-URL:http://kingsgrovemusic.net.au/wordpress
X-WR-CALDESC:Events for Kingsgrove Music School
REFRESH-INTERVAL;VALUE=DURATION:PT1H
X-Robots-Tag:noindex
X-PUBLISHED-TTL:PT1H
BEGIN:VTIMEZONE
TZID:Australia/Melbourne
BEGIN:STANDARD
TZOFFSETFROM:+1100
TZOFFSETTO:+1000
TZNAME:AEST
DTSTART:20220402T160000
END:STANDARD
BEGIN:DAYLIGHT
TZOFFSETFROM:+1000
TZOFFSETTO:+1100
TZNAME:AEDT
DTSTART:20221001T160000
END:DAYLIGHT
BEGIN:STANDARD
TZOFFSETFROM:+1100
TZOFFSETTO:+1000
TZNAME:AEST
DTSTART:20230401T160000
END:STANDARD
BEGIN:DAYLIGHT
TZOFFSETFROM:+1000
TZOFFSETTO:+1100
TZNAME:AEDT
DTSTART:20230930T160000
END:DAYLIGHT
BEGIN:STANDARD
TZOFFSETFROM:+1100
TZOFFSETTO:+1000
TZNAME:AEST
DTSTART:20240406T160000
END:STANDARD
BEGIN:DAYLIGHT
TZOFFSETFROM:+1000
TZOFFSETTO:+1100
TZNAME:AEDT
DTSTART:20241005T160000
END:DAYLIGHT
BEGIN:STANDARD
TZOFFSETFROM:+1100
TZOFFSETTO:+1000
TZNAME:AEST
DTSTART:20250405T160000
END:STANDARD
BEGIN:DAYLIGHT
TZOFFSETFROM:+1000
TZOFFSETTO:+1100
TZNAME:AEDT
DTSTART:20251004T160000
END:DAYLIGHT
END:VTIMEZONE
BEGIN:VEVENT
DTSTART;TZID=Australia/Melbourne:20230612T000000
DTEND;TZID=Australia/Melbourne:20230612T235959
DTSTAMP:20260426T020233
CREATED:20221228T100638Z
LAST-MODIFIED:20221228T100640Z
UID:967-1686528000-1686614399@kingsgrovemusic.net.au
SUMMARY:Term 3 fees due
DESCRIPTION:
URL:http://kingsgrovemusic.net.au/wordpress/event/term-3-fees-due-3/
END:VEVENT
BEGIN:VEVENT
DTSTART;TZID=Australia/Melbourne:20230612T000000
DTEND;TZID=Australia/Melbourne:20230612T235959
DTSTAMP:20260426T020233
CREATED:20221228T100717Z
LAST-MODIFIED:20221228T100718Z
UID:969-1686528000-1686614399@kingsgrovemusic.net.au
SUMMARY:No lessons due to public holiday
DESCRIPTION:
URL:http://kingsgrovemusic.net.au/wordpress/event/no-lessons-due-to-public-holiday-4/
END:VEVENT
BEGIN:VEVENT
DTSTART;TZID=Australia/Melbourne:20230619T000000
DTEND;TZID=Australia/Melbourne:20230619T235959
DTSTAMP:20260426T020233
CREATED:20221228T100743Z
LAST-MODIFIED:20221228T100745Z
UID:971-1687132800-1687219199@kingsgrovemusic.net.au
SUMMARY:Studio Term 3 begins
DESCRIPTION:
URL:http://kingsgrovemusic.net.au/wordpress/event/studio-term-3-begins-3/
END:VEVENT
BEGIN:VEVENT
DTSTART;TZID=Australia/Melbourne:20230626T000000
DTEND;TZID=Australia/Melbourne:20230626T235959
DTSTAMP:20260426T020233
CREATED:20221228T100848Z
LAST-MODIFIED:20221228T100849Z
UID:973-1687737600-1687823999@kingsgrovemusic.net.au
SUMMARY:*Note: there ARE lessons on 1 July
DESCRIPTION:
URL:http://kingsgrovemusic.net.au/wordpress/event/note-there-are-lessons-on-1-july/
END:VEVENT
BEGIN:VEVENT
DTSTART;TZID=Australia/Melbourne:20230703T000000
DTEND;TZID=Australia/Melbourne:20230716T235959
DTSTAMP:20260426T020233
CREATED:20221228T101136Z
LAST-MODIFIED:20221228T101137Z
UID:975-1688342400-1689551999@kingsgrovemusic.net.au
SUMMARY:Studio Holidays – Make up lessons only
DESCRIPTION:
URL:http://kingsgrovemusic.net.au/wordpress/event/studio-holidays-make-up-lessons-only/
END:VEVENT
BEGIN:VEVENT
DTSTART;TZID=Australia/Melbourne:20230731T000000
DTEND;TZID=Australia/Melbourne:20230731T235959
DTSTAMP:20260426T020233
CREATED:20221228T101203Z
LAST-MODIFIED:20221228T101204Z
UID:977-1690761600-1690847999@kingsgrovemusic.net.au
SUMMARY:2nd instalment of fees due
DESCRIPTION:
URL:http://kingsgrovemusic.net.au/wordpress/event/2nd-instalment-of-fees-due-5/
END:VEVENT
BEGIN:VEVENT
DTSTART;TZID=Australia/Melbourne:20230904T000000
DTEND;TZID=Australia/Melbourne:20230904T235959
DTSTAMP:20260426T020233
CREATED:20221228T101227Z
LAST-MODIFIED:20221228T101228Z
UID:979-1693785600-1693871999@kingsgrovemusic.net.au
SUMMARY:Term 4 fees due
DESCRIPTION:
URL:http://kingsgrovemusic.net.au/wordpress/event/term-4-fees-due-2/
END:VEVENT
BEGIN:VEVENT
DTSTART;TZID=Australia/Melbourne:20230911T000000
DTEND;TZID=Australia/Melbourne:20230911T235959
DTSTAMP:20260426T020233
CREATED:20221228T101249Z
LAST-MODIFIED:20221228T101251Z
UID:981-1694390400-1694476799@kingsgrovemusic.net.au
SUMMARY:Studio Term 4 begins
DESCRIPTION:
URL:http://kingsgrovemusic.net.au/wordpress/event/studio-term-4-begins-3/
END:VEVENT
BEGIN:VEVENT
DTSTART;TZID=Australia/Melbourne:20230918T000000
DTEND;TZID=Australia/Melbourne:20230918T235959
DTSTAMP:20260426T020233
CREATED:20221228T101332Z
LAST-MODIFIED:20221228T101333Z
UID:983-1694995200-1695081599@kingsgrovemusic.net.au
SUMMARY:*Note: there ARE lessons on Saturday\, 23 September
DESCRIPTION:
URL:http://kingsgrovemusic.net.au/wordpress/event/note-there-are-lessons-on-saturday-23-september/
END:VEVENT
BEGIN:VEVENT
DTSTART;TZID=Australia/Melbourne:20230925T000000
DTEND;TZID=Australia/Melbourne:20231008T235959
DTSTAMP:20260426T020233
CREATED:20221228T101427Z
LAST-MODIFIED:20221228T101428Z
UID:985-1695600000-1696809599@kingsgrovemusic.net.au
SUMMARY:Public School Holidays
DESCRIPTION:
URL:http://kingsgrovemusic.net.au/wordpress/event/public-school-holidays/
END:VEVENT
BEGIN:VEVENT
DTSTART;TZID=Australia/Melbourne:20231002T000000
DTEND;TZID=Australia/Melbourne:20231002T235959
DTSTAMP:20260426T020233
CREATED:20221228T101502Z
LAST-MODIFIED:20221228T101505Z
UID:987-1696204800-1696291199@kingsgrovemusic.net.au
SUMMARY:No lessons due to public holiday
DESCRIPTION:
URL:http://kingsgrovemusic.net.au/wordpress/event/no-lessons-due-to-public-holiday-5/
END:VEVENT
BEGIN:VEVENT
DTSTART;TZID=Australia/Melbourne:20231009T000000
DTEND;TZID=Australia/Melbourne:20231009T235959
DTSTAMP:20260426T020233
CREATED:20221228T101522Z
LAST-MODIFIED:20221228T101524Z
UID:989-1696809600-1696895999@kingsgrovemusic.net.au
SUMMARY:2nd instalment of fees due
DESCRIPTION:
URL:http://kingsgrovemusic.net.au/wordpress/event/2nd-instalment-of-fees-due-6/
END:VEVENT
BEGIN:VEVENT
DTSTART;TZID=Australia/Melbourne:20231113T000000
DTEND;TZID=Australia/Melbourne:20231113T235959
DTSTAMP:20260426T020233
CREATED:20221228T101542Z
LAST-MODIFIED:20221228T101543Z
UID:991-1699833600-1699919999@kingsgrovemusic.net.au
SUMMARY:Term 5 fees due
DESCRIPTION:
URL:http://kingsgrovemusic.net.au/wordpress/event/term-5-fees-due-2/
END:VEVENT
BEGIN:VEVENT
DTSTART;TZID=Australia/Melbourne:20231120T000000
DTEND;TZID=Australia/Melbourne:20231120T235959
DTSTAMP:20260426T020233
CREATED:20221228T101600Z
LAST-MODIFIED:20221228T101956Z
UID:993-1700438400-1700524799@kingsgrovemusic.net.au
SUMMARY:Studio Term 5 begins
DESCRIPTION:
URL:http://kingsgrovemusic.net.au/wordpress/event/1-studio-term-5-begins/
END:VEVENT
BEGIN:VEVENT
DTSTART;TZID=Australia/Melbourne:20231218T000000
DTEND;TZID=Australia/Melbourne:20231218T235959
DTSTAMP:20260426T020233
CREATED:20221228T101636Z
LAST-MODIFIED:20221228T101638Z
UID:995-1702857600-1702943999@kingsgrovemusic.net.au
SUMMARY:Term ends
DESCRIPTION:
URL:http://kingsgrovemusic.net.au/wordpress/event/term-ends/
END:VEVENT
BEGIN:VEVENT
DTSTART;TZID=Australia/Melbourne:20231218T000000
DTEND;TZID=Australia/Melbourne:20231218T235959
DTSTAMP:20260426T020233
CREATED:20221228T101656Z
LAST-MODIFIED:20221228T101657Z
UID:997-1702857600-1702943999@kingsgrovemusic.net.au
SUMMARY:Make up lessons
DESCRIPTION:
URL:http://kingsgrovemusic.net.au/wordpress/event/make-up-lessons-2/
END:VEVENT
BEGIN:VEVENT
DTSTART;TZID=Australia/Melbourne:20231218T000000
DTEND;TZID=Australia/Melbourne:20231218T235959
DTSTAMP:20260426T020233
CREATED:20221228T101721Z
LAST-MODIFIED:20221228T101723Z
UID:999-1702857600-1702943999@kingsgrovemusic.net.au
SUMMARY:Annual concert TBC
DESCRIPTION:
URL:http://kingsgrovemusic.net.au/wordpress/event/annual-concert-tbc-2/
END:VEVENT
BEGIN:VEVENT
DTSTART;TZID=Australia/Melbourne:20231218T000000
DTEND;TZID=Australia/Melbourne:20231218T235959
DTSTAMP:20260426T020233
CREATED:20221228T101802Z
LAST-MODIFIED:20221228T101804Z
UID:1001-1702857600-1702943999@kingsgrovemusic.net.au
SUMMARY:Register for 2024
DESCRIPTION:$50 deposit required
URL:http://kingsgrovemusic.net.au/wordpress/event/register-for-2024/
END:VEVENT
BEGIN:VEVENT
DTSTART;TZID=Australia/Melbourne:20240129T000000
DTEND;TZID=Australia/Melbourne:20240204T235959
DTSTAMP:20260426T020233
CREATED:20240121T221750Z
LAST-MODIFIED:20240121T221752Z
UID:1036-1706486400-1707091199@kingsgrovemusic.net.au
SUMMARY:Term 1 fees due
DESCRIPTION:
URL:http://kingsgrovemusic.net.au/wordpress/event/term-1-fees-due-5/
END:VEVENT
BEGIN:VEVENT
DTSTART;TZID=Australia/Melbourne:20240226T000000
DTEND;TZID=Australia/Melbourne:20240303T235959
DTSTAMP:20260426T020233
CREATED:20240121T221849Z
LAST-MODIFIED:20240121T221851Z
UID:1038-1708905600-1709510399@kingsgrovemusic.net.au
SUMMARY:2nd instalment of fees due
DESCRIPTION:
URL:http://kingsgrovemusic.net.au/wordpress/event/2nd-instalment-of-fees-due-7/
END:VEVENT
BEGIN:VEVENT
DTSTART;TZID=Australia/Melbourne:20240329T000000
DTEND;TZID=Australia/Melbourne:20240401T235959
DTSTAMP:20260426T020233
CREATED:20240121T222009Z
LAST-MODIFIED:20240121T222205Z
UID:1040-1711670400-1712015999@kingsgrovemusic.net.au
SUMMARY:No lessons due to Easter weekend
DESCRIPTION:
URL:http://kingsgrovemusic.net.au/wordpress/event/no-lessons-due-to-easter-weekend/
END:VEVENT
BEGIN:VEVENT
DTSTART;TZID=Australia/Melbourne:20240401T000000
DTEND;TZID=Australia/Melbourne:20240407T235959
DTSTAMP:20260426T020233
CREATED:20240121T222320Z
LAST-MODIFIED:20240121T222322Z
UID:1042-1711929600-1712534399@kingsgrovemusic.net.au
SUMMARY:Term 2 fees due
DESCRIPTION:
URL:http://kingsgrovemusic.net.au/wordpress/event/term-2-fees-due-3/
END:VEVENT
BEGIN:VEVENT
DTSTART;TZID=Australia/Melbourne:20240408T000000
DTEND;TZID=Australia/Melbourne:20240408T235959
DTSTAMP:20260426T020233
CREATED:20240121T222404Z
LAST-MODIFIED:20240121T222406Z
UID:1044-1712534400-1712620799@kingsgrovemusic.net.au
SUMMARY:Studio Term 2 begins
DESCRIPTION:
URL:http://kingsgrovemusic.net.au/wordpress/event/studio-term-2-begins-4/
END:VEVENT
BEGIN:VEVENT
DTSTART;TZID=Australia/Melbourne:20240415T000000
DTEND;TZID=Australia/Melbourne:20240428T235959
DTSTAMP:20260426T020233
CREATED:20240121T222452Z
LAST-MODIFIED:20240121T222453Z
UID:1046-1713139200-1714348799@kingsgrovemusic.net.au
SUMMARY:NSW Public School Holidays
DESCRIPTION:
URL:http://kingsgrovemusic.net.au/wordpress/event/nsw-public-school-holidays/
END:VEVENT
BEGIN:VEVENT
DTSTART;TZID=Australia/Melbourne:20240425T000000
DTEND;TZID=Australia/Melbourne:20240425T235959
DTSTAMP:20260426T020233
CREATED:20240121T222544Z
LAST-MODIFIED:20240121T222546Z
UID:1048-1714003200-1714089599@kingsgrovemusic.net.au
SUMMARY:No lesson due to Anzac Day public holiday
DESCRIPTION:
URL:http://kingsgrovemusic.net.au/wordpress/event/no-lesson-due-to-anzac-day-public-holiday/
END:VEVENT
BEGIN:VEVENT
DTSTART;TZID=Australia/Melbourne:20240506T000000
DTEND;TZID=Australia/Melbourne:20240512T235959
DTSTAMP:20260426T020233
CREATED:20240121T222636Z
LAST-MODIFIED:20240121T222639Z
UID:1050-1714953600-1715558399@kingsgrovemusic.net.au
SUMMARY:2nd instalment of fees due
DESCRIPTION:
URL:http://kingsgrovemusic.net.au/wordpress/event/2nd-instalment-of-fees-due-16/
END:VEVENT
BEGIN:VEVENT
DTSTART;TZID=Australia/Melbourne:20240610T000000
DTEND;TZID=Australia/Melbourne:20240610T235959
DTSTAMP:20260426T020233
CREATED:20240121T222858Z
LAST-MODIFIED:20240121T222901Z
UID:1052-1717977600-1718063999@kingsgrovemusic.net.au
SUMMARY:No lesson due to Queen's Birthday public holiday
DESCRIPTION:
URL:http://kingsgrovemusic.net.au/wordpress/event/no-lesson-due-to-queens-birthday-public-holiday/
END:VEVENT
BEGIN:VEVENT
DTSTART;TZID=Australia/Melbourne:20240610T000000
DTEND;TZID=Australia/Melbourne:20240616T235959
DTSTAMP:20260426T020233
CREATED:20240121T222939Z
LAST-MODIFIED:20240121T222941Z
UID:1054-1717977600-1718582399@kingsgrovemusic.net.au
SUMMARY:Term 3 fees due
DESCRIPTION:
URL:http://kingsgrovemusic.net.au/wordpress/event/term-3-fees-due-7/
END:VEVENT
BEGIN:VEVENT
DTSTART;TZID=Australia/Melbourne:20240617T000000
DTEND;TZID=Australia/Melbourne:20240617T235959
DTSTAMP:20260426T020233
CREATED:20240121T223020Z
LAST-MODIFIED:20240121T223025Z
UID:1056-1718582400-1718668799@kingsgrovemusic.net.au
SUMMARY:Studio Term 3 begins
DESCRIPTION:
URL:http://kingsgrovemusic.net.au/wordpress/event/studio-term-3-begins-4/
END:VEVENT
BEGIN:VEVENT
DTSTART;TZID=Australia/Melbourne:20240708T000000
DTEND;TZID=Australia/Melbourne:20240721T235959
DTSTAMP:20260426T020233
CREATED:20240121T223247Z
LAST-MODIFIED:20240121T223250Z
UID:1058-1720396800-1721606399@kingsgrovemusic.net.au
SUMMARY:NSW Public School Holidays
DESCRIPTION:Make-up Lessons only.*Note: There ARE lessons on Saturday\, 6 July
URL:http://kingsgrovemusic.net.au/wordpress/event/nsw-public-school-holidays-2/
END:VEVENT
END:VCALENDAR