BEGIN:VCALENDAR
VERSION:2.0
PRODID:-//Kingsgrove Music School - ECPv6.15.20//NONSGML v1.0//EN
CALSCALE:GREGORIAN
METHOD:PUBLISH
X-WR-CALNAME:Kingsgrove Music School
X-ORIGINAL-URL:http://kingsgrovemusic.net.au/wordpress
X-WR-CALDESC:Events for Kingsgrove Music School
REFRESH-INTERVAL;VALUE=DURATION:PT1H
X-Robots-Tag:noindex
X-PUBLISHED-TTL:PT1H
BEGIN:VTIMEZONE
TZID:Australia/Melbourne
BEGIN:STANDARD
TZOFFSETFROM:+1100
TZOFFSETTO:+1000
TZNAME:AEST
DTSTART:20150404T160000
END:STANDARD
BEGIN:DAYLIGHT
TZOFFSETFROM:+1000
TZOFFSETTO:+1100
TZNAME:AEDT
DTSTART:20151003T160000
END:DAYLIGHT
BEGIN:STANDARD
TZOFFSETFROM:+1100
TZOFFSETTO:+1000
TZNAME:AEST
DTSTART:20160402T160000
END:STANDARD
BEGIN:DAYLIGHT
TZOFFSETFROM:+1000
TZOFFSETTO:+1100
TZNAME:AEDT
DTSTART:20161001T160000
END:DAYLIGHT
BEGIN:STANDARD
TZOFFSETFROM:+1100
TZOFFSETTO:+1000
TZNAME:AEST
DTSTART:20170401T160000
END:STANDARD
BEGIN:DAYLIGHT
TZOFFSETFROM:+1000
TZOFFSETTO:+1100
TZNAME:AEDT
DTSTART:20170930T160000
END:DAYLIGHT
BEGIN:STANDARD
TZOFFSETFROM:+1100
TZOFFSETTO:+1000
TZNAME:AEST
DTSTART:20180331T160000
END:STANDARD
BEGIN:DAYLIGHT
TZOFFSETFROM:+1000
TZOFFSETTO:+1100
TZNAME:AEDT
DTSTART:20181006T160000
END:DAYLIGHT
BEGIN:STANDARD
TZOFFSETFROM:+1100
TZOFFSETTO:+1000
TZNAME:AEST
DTSTART:20190406T160000
END:STANDARD
BEGIN:DAYLIGHT
TZOFFSETFROM:+1000
TZOFFSETTO:+1100
TZNAME:AEDT
DTSTART:20191005T160000
END:DAYLIGHT
BEGIN:STANDARD
TZOFFSETFROM:+1100
TZOFFSETTO:+1000
TZNAME:AEST
DTSTART:20200404T160000
END:STANDARD
BEGIN:DAYLIGHT
TZOFFSETFROM:+1000
TZOFFSETTO:+1100
TZNAME:AEDT
DTSTART:20201003T160000
END:DAYLIGHT
END:VTIMEZONE
BEGIN:VEVENT
DTSTART;TZID=Australia/Melbourne:20190506T000000
DTEND;TZID=Australia/Melbourne:20190506T235900
DTSTAMP:20260425T231748
CREATED:20190123T041046Z
LAST-MODIFIED:20190123T044127Z
UID:563-1557100800-1557187140@kingsgrovemusic.net.au
SUMMARY:2nd instalment of fees due
DESCRIPTION:
URL:http://kingsgrovemusic.net.au/wordpress/event/2nd-instalment-of-fees-due-8/
END:VEVENT
BEGIN:VEVENT
DTSTART;TZID=Australia/Melbourne:20190425T000000
DTEND;TZID=Australia/Melbourne:20190425T235900
DTSTAMP:20260425T231748
CREATED:20190123T040822Z
LAST-MODIFIED:20190123T044142Z
UID:559-1556150400-1556236740@kingsgrovemusic.net.au
SUMMARY:No lesson due to public holiday (ANZAC Day)
DESCRIPTION:
URL:http://kingsgrovemusic.net.au/wordpress/event/no-lesson-due-to-public-holiday-anzac-day/
END:VEVENT
BEGIN:VEVENT
DTSTART;TZID=Australia/Melbourne:20190419T000000
DTEND;TZID=Australia/Melbourne:20190425T235900
DTSTAMP:20260425T231748
CREATED:20190123T040600Z
LAST-MODIFIED:20190123T044046Z
UID:556-1555632000-1556236740@kingsgrovemusic.net.au
SUMMARY:No lessons due to holiday weekend (Easter)
DESCRIPTION:
URL:http://kingsgrovemusic.net.au/wordpress/event/no-lessons-due-to-holiday-weekend-easter/
END:VEVENT
BEGIN:VEVENT
DTSTART;VALUE=DATE:20190415
DTEND;VALUE=DATE:20190501
DTSTAMP:20260425T231748
CREATED:20190123T041006Z
LAST-MODIFIED:20200108T031837Z
UID:561-1555286400-1556668799@kingsgrovemusic.net.au
SUMMARY:NSW Public School holidays
DESCRIPTION:
URL:http://kingsgrovemusic.net.au/wordpress/event/nsw-public-school-holidays-4/
END:VEVENT
BEGIN:VEVENT
DTSTART;VALUE=DATE:20190413
DTEND;VALUE=DATE:20190414
DTSTAMP:20260425T231748
CREATED:20190123T042612Z
LAST-MODIFIED:20190123T042612Z
UID:595-1555113600-1555199999@kingsgrovemusic.net.au
SUMMARY:*Note: There ARE lessons today!
DESCRIPTION:
URL:http://kingsgrovemusic.net.au/wordpress/event/note-there-are-lessons-today/
END:VEVENT
BEGIN:VEVENT
DTSTART;TZID=Australia/Melbourne:20190308T000000
DTEND;TZID=Australia/Melbourne:20190308T235900
DTSTAMP:20260425T231748
CREATED:20190123T035553Z
LAST-MODIFIED:20190123T044004Z
UID:552-1552003200-1552089540@kingsgrovemusic.net.au
SUMMARY:Term 2 begins
DESCRIPTION:*Note: There ARE lessons on Saturday\, 13 April!
URL:http://kingsgrovemusic.net.au/wordpress/event/term-2-begins-4/
ORGANIZER;CN="Susan Turner":MAILTO:kingsgrovemusicschool@bigpond.com
END:VEVENT
BEGIN:VEVENT
DTSTART;VALUE=DATE:20180129
DTEND;VALUE=DATE:20180130
DTSTAMP:20260425T231748
CREATED:20180124T060407Z
LAST-MODIFIED:20200108T022149Z
UID:203-1517184000-1517270399@kingsgrovemusic.net.au
SUMMARY:Term 1 Fees Due
DESCRIPTION:
URL:http://kingsgrovemusic.net.au/wordpress/event/term-1-fees-due/
END:VEVENT
BEGIN:VEVENT
DTSTART;VALUE=DATE:20170619
DTEND;VALUE=DATE:20170620
DTSTAMP:20260425T231748
CREATED:20170217T051823Z
LAST-MODIFIED:20170217T051824Z
UID:176-1497830400-1497916799@kingsgrovemusic.net.au
SUMMARY:Term 3 begins
DESCRIPTION:
URL:http://kingsgrovemusic.net.au/wordpress/event/term-3-begins-2/
END:VEVENT
BEGIN:VEVENT
DTSTART;VALUE=DATE:20170612
DTEND;VALUE=DATE:20170613
DTSTAMP:20260425T231748
CREATED:20170217T051745Z
LAST-MODIFIED:20170217T051745Z
UID:174-1497225600-1497311999@kingsgrovemusic.net.au
SUMMARY:Term 3 fees due
DESCRIPTION:
URL:http://kingsgrovemusic.net.au/wordpress/event/term-3-fees-due-2/
END:VEVENT
BEGIN:VEVENT
DTSTART;VALUE=DATE:20170612
DTEND;VALUE=DATE:20170613
DTSTAMP:20260425T231748
CREATED:20170217T051715Z
LAST-MODIFIED:20170217T051715Z
UID:172-1497225600-1497311999@kingsgrovemusic.net.au
SUMMARY:No lesson on Monday\, 12 June (public holiday)
DESCRIPTION:
URL:http://kingsgrovemusic.net.au/wordpress/event/no-lesson-on-monday-12-june-public-holiday/
END:VEVENT
BEGIN:VEVENT
DTSTART;VALUE=DATE:20170508
DTEND;VALUE=DATE:20170509
DTSTAMP:20260425T231748
CREATED:20170217T051622Z
LAST-MODIFIED:20170217T051623Z
UID:170-1494201600-1494287999@kingsgrovemusic.net.au
SUMMARY:2nd instalment of fees due
DESCRIPTION:
URL:http://kingsgrovemusic.net.au/wordpress/event/2nd-instalment-of-fees-due-2/
END:VEVENT
BEGIN:VEVENT
DTSTART;VALUE=DATE:20170414
DTEND;VALUE=DATE:20170417
DTSTAMP:20260425T231748
CREATED:20170217T032750Z
LAST-MODIFIED:20170217T032750Z
UID:168-1492128000-1492387199@kingsgrovemusic.net.au
SUMMARY:No lessons on Easter weekend
DESCRIPTION:
URL:http://kingsgrovemusic.net.au/wordpress/event/no-lessons-on-easter-weekend/
END:VEVENT
BEGIN:VEVENT
DTSTART;VALUE=DATE:20170410
DTEND;VALUE=DATE:20170411
DTSTAMP:20260425T231748
CREATED:20170217T032612Z
LAST-MODIFIED:20170217T032629Z
UID:164-1491782400-1491868799@kingsgrovemusic.net.au
SUMMARY:Term 2 begins
DESCRIPTION:
URL:http://kingsgrovemusic.net.au/wordpress/event/term-2-begins-2/
END:VEVENT
BEGIN:VEVENT
DTSTART;VALUE=DATE:20170403
DTEND;VALUE=DATE:20170404
DTSTAMP:20260425T231748
CREATED:20170217T032518Z
LAST-MODIFIED:20170217T032518Z
UID:162-1491177600-1491263999@kingsgrovemusic.net.au
SUMMARY:Term 2 fees due
DESCRIPTION:
URL:http://kingsgrovemusic.net.au/wordpress/event/term-2-fees-due/
END:VEVENT
BEGIN:VEVENT
DTSTART;VALUE=DATE:20170227
DTEND;VALUE=DATE:20170228
DTSTAMP:20260425T231748
CREATED:20170217T032415Z
LAST-MODIFIED:20170217T032415Z
UID:160-1488153600-1488239999@kingsgrovemusic.net.au
SUMMARY:2nd instalment of fees due
DESCRIPTION:
URL:http://kingsgrovemusic.net.au/wordpress/event/2nd-instalment-of-fees-due/
END:VEVENT
BEGIN:VEVENT
DTSTART;VALUE=DATE:20161212
DTEND;VALUE=DATE:20161213
DTSTAMP:20260425T231748
CREATED:20160509T035527Z
LAST-MODIFIED:20160509T035527Z
UID:91-1481500800-1481587199@kingsgrovemusic.net.au
SUMMARY:Term 5 ends/School closed for holiday season
DESCRIPTION:
URL:http://kingsgrovemusic.net.au/wordpress/event/term-5-endsschool-closed-for-holiday-season/
ORGANIZER;CN="Susan Turner":MAILTO:kingsgrovemusicschool@bigpond.com
END:VEVENT
BEGIN:VEVENT
DTSTART;VALUE=DATE:20161114
DTEND;VALUE=DATE:20161115
DTSTAMP:20260425T231748
CREATED:20160509T035411Z
LAST-MODIFIED:20160509T035411Z
UID:90-1479081600-1479167999@kingsgrovemusic.net.au
SUMMARY:Term 5 begins
DESCRIPTION:
URL:http://kingsgrovemusic.net.au/wordpress/event/term-5-begins/
ORGANIZER;CN="Susan Turner":MAILTO:kingsgrovemusicschool@bigpond.com
END:VEVENT
BEGIN:VEVENT
DTSTART;VALUE=DATE:20161107
DTEND;VALUE=DATE:20161108
DTSTAMP:20260425T231748
CREATED:20160509T035208Z
LAST-MODIFIED:20160509T035208Z
UID:87-1478476800-1478563199@kingsgrovemusic.net.au
SUMMARY:Term 5 fees due
DESCRIPTION:
URL:http://kingsgrovemusic.net.au/wordpress/event/term-5-fees-due/
ORGANIZER;CN="Susan Turner":MAILTO:kingsgrovemusicschool@bigpond.com
END:VEVENT
BEGIN:VEVENT
DTSTART;VALUE=DATE:20161003
DTEND;VALUE=DATE:20161004
DTSTAMP:20260425T231748
CREATED:20160509T035124Z
LAST-MODIFIED:20160509T035124Z
UID:86-1475452800-1475539199@kingsgrovemusic.net.au
SUMMARY:2nd installment of fees due
DESCRIPTION:
URL:http://kingsgrovemusic.net.au/wordpress/event/2nd-installment-of-fees-due-3/
ORGANIZER;CN="Susan Turner":MAILTO:kingsgrovemusicschool@bigpond.com
END:VEVENT
BEGIN:VEVENT
DTSTART;VALUE=DATE:20161003
DTEND;VALUE=DATE:20161004
DTSTAMP:20260425T231748
CREATED:20160509T035047Z
LAST-MODIFIED:20160509T035047Z
UID:85-1475452800-1475539199@kingsgrovemusic.net.au
SUMMARY:School closed for Labour Day public holiday
DESCRIPTION:
URL:http://kingsgrovemusic.net.au/wordpress/event/school-closed-for-labour-day-public-holiday/
ORGANIZER;CN="Susan Turner":MAILTO:kingsgrovemusicschool@bigpond.com
END:VEVENT
BEGIN:VEVENT
DTSTART;VALUE=DATE:20160905
DTEND;VALUE=DATE:20160906
DTSTAMP:20260425T231748
CREATED:20160509T035332Z
LAST-MODIFIED:20160509T035332Z
UID:89-1473033600-1473119999@kingsgrovemusic.net.au
SUMMARY:Term 4 begins
DESCRIPTION:
URL:http://kingsgrovemusic.net.au/wordpress/event/term-4-begins/
ORGANIZER;CN="Susan Turner":MAILTO:kingsgrovemusicschool@bigpond.com
END:VEVENT
BEGIN:VEVENT
DTSTART;VALUE=DATE:20160829
DTEND;VALUE=DATE:20160830
DTSTAMP:20260425T231748
CREATED:20160509T034736Z
LAST-MODIFIED:20160509T034736Z
UID:84-1472428800-1472515199@kingsgrovemusic.net.au
SUMMARY:Term 4 fees due
DESCRIPTION:
URL:http://kingsgrovemusic.net.au/wordpress/event/term-4-fees-due/
ORGANIZER;CN="Susan Turner":MAILTO:kingsgrovemusicschool@bigpond.com
END:VEVENT
BEGIN:VEVENT
DTSTART;VALUE=DATE:20160725
DTEND;VALUE=DATE:20160726
DTSTAMP:20260425T231748
CREATED:20160509T034650Z
LAST-MODIFIED:20160509T034650Z
UID:83-1469404800-1469491199@kingsgrovemusic.net.au
SUMMARY:2nd installment of fees due
DESCRIPTION:
URL:http://kingsgrovemusic.net.au/wordpress/event/2nd-installment-of-fees-due-2/
LOCATION:Kingsgrove Music School\, 605 Forest Rd\, Bexley\, NSW\, 2207\, Australia
ORGANIZER;CN="Susan Turner":MAILTO:kingsgrovemusicschool@bigpond.com
END:VEVENT
BEGIN:VEVENT
DTSTART;VALUE=DATE:20160704
DTEND;VALUE=DATE:20160718
DTSTAMP:20260425T231748
CREATED:20160509T034600Z
LAST-MODIFIED:20160509T034600Z
UID:82-1467590400-1468799999@kingsgrovemusic.net.au
SUMMARY:School closed for school holidays
DESCRIPTION:
URL:http://kingsgrovemusic.net.au/wordpress/event/school-closed-for-school-holidays/
LOCATION:Kingsgrove Music School\, 605 Forest Rd\, Bexley\, NSW\, 2207\, Australia
ORGANIZER;CN="Susan Turner":MAILTO:kingsgrovemusicschool@bigpond.com
END:VEVENT
BEGIN:VEVENT
DTSTART;VALUE=DATE:20160613
DTEND;VALUE=DATE:20160614
DTSTAMP:20260425T231748
CREATED:20160509T035259Z
LAST-MODIFIED:20160509T035259Z
UID:88-1465776000-1465862399@kingsgrovemusic.net.au
SUMMARY:Term 3 begins
DESCRIPTION:
URL:http://kingsgrovemusic.net.au/wordpress/event/term-3-begins/
ORGANIZER;CN="Susan Turner":MAILTO:kingsgrovemusicschool@bigpond.com
END:VEVENT
BEGIN:VEVENT
DTSTART;VALUE=DATE:20160613
DTEND;VALUE=DATE:20160614
DTSTAMP:20260425T231748
CREATED:20160509T034459Z
LAST-MODIFIED:20160509T035711Z
UID:81-1465776000-1465862399@kingsgrovemusic.net.au
SUMMARY:School closed for Queen's Birthday public holiday
DESCRIPTION:
URL:http://kingsgrovemusic.net.au/wordpress/event/school-closed-for-queens-birthday-holiday/
LOCATION:Kingsgrove Music School\, 605 Forest Rd\, Bexley\, NSW\, 2207\, Australia
ORGANIZER;CN="Susan Turner":MAILTO:kingsgrovemusicschool@bigpond.com
END:VEVENT
BEGIN:VEVENT
DTSTART;VALUE=DATE:20160606
DTEND;VALUE=DATE:20160607
DTSTAMP:20260425T231748
CREATED:20160509T034227Z
LAST-MODIFIED:20160509T034246Z
UID:80-1465171200-1465257599@kingsgrovemusic.net.au
SUMMARY:Term 3 fees due
DESCRIPTION:
URL:http://kingsgrovemusic.net.au/wordpress/event/term-3-fees-due/
LOCATION:Kingsgrove Music School\, 605 Forest Rd\, Bexley\, NSW\, 2207\, Australia
ORGANIZER;CN="Susan Turner":MAILTO:kingsgrovemusicschool@bigpond.com
END:VEVENT
BEGIN:VEVENT
DTSTART;VALUE=DATE:20160502
DTEND;VALUE=DATE:20160503
DTSTAMP:20260425T231748
CREATED:20160509T034133Z
LAST-MODIFIED:20160509T034133Z
UID:79-1462147200-1462233599@kingsgrovemusic.net.au
SUMMARY:2nd installment of fees due
DESCRIPTION:
URL:http://kingsgrovemusic.net.au/wordpress/event/2nd-installment-of-fees-due/
LOCATION:Kingsgrove Music School\, 605 Forest Rd\, Bexley\, NSW\, 2207\, Australia
ORGANIZER;CN="Susan Turner":MAILTO:kingsgrovemusicschool@bigpond.com
END:VEVENT
BEGIN:VEVENT
DTSTART;VALUE=DATE:20160425
DTEND;VALUE=DATE:20160426
DTSTAMP:20260425T231748
CREATED:20160509T034032Z
LAST-MODIFIED:20160509T034032Z
UID:78-1461542400-1461628799@kingsgrovemusic.net.au
SUMMARY:School closed for ANZAC Day
DESCRIPTION:
URL:http://kingsgrovemusic.net.au/wordpress/event/school-closed-for-anzac-day/
LOCATION:Kingsgrove Music School\, 605 Forest Rd\, Bexley\, NSW\, 2207\, Australia
ORGANIZER;CN="Susan Turner":MAILTO:kingsgrovemusicschool@bigpond.com
END:VEVENT
BEGIN:VEVENT
DTSTART;TZID=Australia/Melbourne:20160422T100000
DTEND;TZID=Australia/Melbourne:20160422T110000
DTSTAMP:20260425T231748
CREATED:20160420T062305Z
LAST-MODIFIED:20160420T062624Z
UID:65-1461319200-1461322800@kingsgrovemusic.net.au
SUMMARY:Sample event
DESCRIPTION:
URL:http://kingsgrovemusic.net.au/wordpress/event/sample-event/
LOCATION:Kingsgrove Music School\, 605 Forest Rd\, Bexley\, NSW\, 2207\, Australia
ORGANIZER;CN="Susan Turner":MAILTO:kingsgrovemusicschool@bigpond.com
END:VEVENT
END:VCALENDAR