BEGIN:VCALENDAR
VERSION:2.0
PRODID:-//Kingsgrove Music School - ECPv6.15.20//NONSGML v1.0//EN
CALSCALE:GREGORIAN
METHOD:PUBLISH
X-WR-CALNAME:Kingsgrove Music School
X-ORIGINAL-URL:http://kingsgrovemusic.net.au/wordpress
X-WR-CALDESC:Events for Kingsgrove Music School
REFRESH-INTERVAL;VALUE=DURATION:PT1H
X-Robots-Tag:noindex
X-PUBLISHED-TTL:PT1H
BEGIN:VTIMEZONE
TZID:Australia/Melbourne
BEGIN:STANDARD
TZOFFSETFROM:+1100
TZOFFSETTO:+1000
TZNAME:AEST
DTSTART:20250405T160000
END:STANDARD
BEGIN:DAYLIGHT
TZOFFSETFROM:+1000
TZOFFSETTO:+1100
TZNAME:AEDT
DTSTART:20251004T160000
END:DAYLIGHT
BEGIN:STANDARD
TZOFFSETFROM:+1100
TZOFFSETTO:+1000
TZNAME:AEST
DTSTART:20260404T160000
END:STANDARD
BEGIN:DAYLIGHT
TZOFFSETFROM:+1000
TZOFFSETTO:+1100
TZNAME:AEDT
DTSTART:20261003T160000
END:DAYLIGHT
BEGIN:STANDARD
TZOFFSETFROM:+1100
TZOFFSETTO:+1000
TZNAME:AEST
DTSTART:20270403T160000
END:STANDARD
BEGIN:DAYLIGHT
TZOFFSETFROM:+1000
TZOFFSETTO:+1100
TZNAME:AEDT
DTSTART:20271002T160000
END:DAYLIGHT
END:VTIMEZONE
BEGIN:VEVENT
DTSTART;TZID=Australia/Melbourne:20260403T000000
DTEND;TZID=Australia/Melbourne:20260406T235959
DTSTAMP:20260425T123207
CREATED:20260123T061815Z
LAST-MODIFIED:20260123T061841Z
UID:1190-1775174400-1775519999@kingsgrovemusic.net.au
SUMMARY:Easter weekend
DESCRIPTION:Some teachers work on Friday\, Saturday\, and Monday.
URL:http://kingsgrovemusic.net.au/wordpress/event/easter-weekend/
END:VEVENT
END:VCALENDAR