BEGIN:VCALENDAR
VERSION:2.0
PRODID:-//Kingsgrove Music School - ECPv6.15.20//NONSGML v1.0//EN
CALSCALE:GREGORIAN
METHOD:PUBLISH
X-ORIGINAL-URL:http://kingsgrovemusic.net.au/wordpress
X-WR-CALDESC:Events for Kingsgrove Music School
REFRESH-INTERVAL;VALUE=DURATION:PT1H
X-Robots-Tag:noindex
X-PUBLISHED-TTL:PT1H
BEGIN:VTIMEZONE
TZID:Australia/Melbourne
BEGIN:STANDARD
TZOFFSETFROM:+1100
TZOFFSETTO:+1000
TZNAME:AEST
DTSTART:20200404T160000
END:STANDARD
BEGIN:DAYLIGHT
TZOFFSETFROM:+1000
TZOFFSETTO:+1100
TZNAME:AEDT
DTSTART:20201003T160000
END:DAYLIGHT
BEGIN:STANDARD
TZOFFSETFROM:+1100
TZOFFSETTO:+1000
TZNAME:AEST
DTSTART:20210403T160000
END:STANDARD
BEGIN:DAYLIGHT
TZOFFSETFROM:+1000
TZOFFSETTO:+1100
TZNAME:AEDT
DTSTART:20211002T160000
END:DAYLIGHT
BEGIN:STANDARD
TZOFFSETFROM:+1100
TZOFFSETTO:+1000
TZNAME:AEST
DTSTART:20220402T160000
END:STANDARD
BEGIN:DAYLIGHT
TZOFFSETFROM:+1000
TZOFFSETTO:+1100
TZNAME:AEDT
DTSTART:20221001T160000
END:DAYLIGHT
END:VTIMEZONE
BEGIN:VEVENT
DTSTART;TZID=Australia/Melbourne:20211206T080000
DTEND;TZID=Australia/Melbourne:20211206T170000
DTSTAMP:20260426T133720
CREATED:20210128T223306Z
LAST-MODIFIED:20210128T223307Z
UID:821-1638777600-1638810000@kingsgrovemusic.net.au
SUMMARY:Term 5 ends
DESCRIPTION:
URL:http://kingsgrovemusic.net.au/wordpress/event/term-5-ends-2/
END:VEVENT
BEGIN:VEVENT
DTSTART;TZID=Australia/Melbourne:20211206T080000
DTEND;TZID=Australia/Melbourne:20211206T170000
DTSTAMP:20260426T133720
CREATED:20210128T223345Z
LAST-MODIFIED:20210128T223346Z
UID:823-1638777600-1638810000@kingsgrovemusic.net.au
SUMMARY:Register for 2022 – $50 deposit
DESCRIPTION:
URL:http://kingsgrovemusic.net.au/wordpress/event/register-for-2022-50-deposit/
END:VEVENT
BEGIN:VEVENT
DTSTART;TZID=Australia/Melbourne:20211206T080000
DTEND;TZID=Australia/Melbourne:20211206T170000
DTSTAMP:20260426T133720
CREATED:20210128T223412Z
LAST-MODIFIED:20210128T223413Z
UID:825-1638777600-1638810000@kingsgrovemusic.net.au
SUMMARY:Annual Concert TBC
DESCRIPTION:
URL:http://kingsgrovemusic.net.au/wordpress/event/annual-concert-tbc/
END:VEVENT
END:VCALENDAR