BEGIN:VCALENDAR
VERSION:2.0
PRODID:-//Kingsgrove Music School - ECPv6.15.20//NONSGML v1.0//EN
CALSCALE:GREGORIAN
METHOD:PUBLISH
X-WR-CALNAME:Kingsgrove Music School
X-ORIGINAL-URL:http://kingsgrovemusic.net.au/wordpress
X-WR-CALDESC:Events for Kingsgrove Music School
REFRESH-INTERVAL;VALUE=DURATION:PT1H
X-Robots-Tag:noindex
X-PUBLISHED-TTL:PT1H
BEGIN:VTIMEZONE
TZID:Australia/Melbourne
BEGIN:STANDARD
TZOFFSETFROM:+1100
TZOFFSETTO:+1000
TZNAME:AEST
DTSTART:20200404T160000
END:STANDARD
BEGIN:DAYLIGHT
TZOFFSETFROM:+1000
TZOFFSETTO:+1100
TZNAME:AEDT
DTSTART:20201003T160000
END:DAYLIGHT
BEGIN:STANDARD
TZOFFSETFROM:+1100
TZOFFSETTO:+1000
TZNAME:AEST
DTSTART:20210403T160000
END:STANDARD
BEGIN:DAYLIGHT
TZOFFSETFROM:+1000
TZOFFSETTO:+1100
TZNAME:AEDT
DTSTART:20211002T160000
END:DAYLIGHT
BEGIN:STANDARD
TZOFFSETFROM:+1100
TZOFFSETTO:+1000
TZNAME:AEST
DTSTART:20220402T160000
END:STANDARD
BEGIN:DAYLIGHT
TZOFFSETFROM:+1000
TZOFFSETTO:+1100
TZNAME:AEDT
DTSTART:20221001T160000
END:DAYLIGHT
END:VTIMEZONE
BEGIN:VEVENT
DTSTART;TZID=Australia/Melbourne:20210329T080000
DTEND;TZID=Australia/Melbourne:20210329T170000
DTSTAMP:20260425T204830
CREATED:20210128T221716Z
LAST-MODIFIED:20210128T221717Z
UID:785-1617004800-1617037200@kingsgrovemusic.net.au
SUMMARY:Term 2 fees due
DESCRIPTION:
URL:http://kingsgrovemusic.net.au/wordpress/event/term-2-fees-due-5/
END:VEVENT
END:VCALENDAR