BEGIN:VCALENDAR
VERSION:2.0
PRODID:-//Kingsgrove Music - ECPv4.9.13//NONSGML v1.0//EN
CALSCALE:GREGORIAN
METHOD:PUBLISH
X-WR-CALNAME:Kingsgrove Music
X-ORIGINAL-URL:http://kingsgrovemusic.net.au
X-WR-CALDESC:Events for Kingsgrove Music
BEGIN:VTIMEZONE
TZID:Europe/Paris
BEGIN:DAYLIGHT
TZOFFSETFROM:+0100
TZOFFSETTO:+0200
TZNAME:CEST
DTSTART:20200329T010000
END:DAYLIGHT
BEGIN:STANDARD
TZOFFSETFROM:+0200
TZOFFSETTO:+0100
TZNAME:CET
DTSTART:20201025T010000
END:STANDARD
END:VTIMEZONE
BEGIN:VEVENT
DTSTART;TZID=Europe/Paris:20200410T080000
DTEND;TZID=Europe/Paris:20200411T170000
DTSTAMP:20200228T040945
CREATED:20200108T023932Z
LAST-MODIFIED:20200108T023934Z
UID:685-1586505600-1586624400@kingsgrovemusic.net.au
SUMMARY:No Lesson Due To Public Holiday (Easter Weekend)
DESCRIPTION:\n\n\n \n\n\n\n\n\n\n\n\n\n\n
URL:http://kingsgrovemusic.net.au/event/no-lesson-due-to-public-holiday-easter-weekend/
LOCATION:Kingsgrove Music\, 605 Forest Rd\, Bexley\, NSW\, 2207\, Australia
ORGANIZER;CN="Susan%20Turner":MAILTO:kingsgrovemusicschool@bigpond.com
END:VEVENT
BEGIN:VEVENT
DTSTART;TZID=Europe/Paris:20200410T080000
DTEND;TZID=Europe/Paris:20200426T170000
DTSTAMP:20200228T040945
CREATED:20200108T030950Z
LAST-MODIFIED:20200108T031802Z
UID:731-1586505600-1587920400@kingsgrovemusic.net.au
SUMMARY:NSW Public School Holidays
DESCRIPTION:\n\n\n \n\n\n\n\n\n\n\n\n\n\n
URL:http://kingsgrovemusic.net.au/event/school-holidays/
LOCATION:Kingsgrove Music\, 605 Forest Rd\, Bexley\, NSW\, 2207\, Australia
ORGANIZER;CN="Susan%20Turner":MAILTO:kingsgrovemusicschool@bigpond.com
END:VEVENT
END:VCALENDAR