BEGIN:VCALENDAR
VERSION:2.0
PRODID:-//Kingsgrove Music - ECPv4.9.13//NONSGML v1.0//EN
CALSCALE:GREGORIAN
METHOD:PUBLISH
X-WR-CALNAME:Kingsgrove Music
X-ORIGINAL-URL:http://kingsgrovemusic.net.au
X-WR-CALDESC:Events for Kingsgrove Music
BEGIN:VTIMEZONE
TZID:Europe/Paris
BEGIN:DAYLIGHT
TZOFFSETFROM:+0100
TZOFFSETTO:+0200
TZNAME:CEST
DTSTART:20190331T010000
END:DAYLIGHT
BEGIN:STANDARD
TZOFFSETFROM:+0200
TZOFFSETTO:+0100
TZNAME:CET
DTSTART:20191027T010000
END:STANDARD
END:VTIMEZONE
BEGIN:VEVENT
DTSTART;VALUE=DATE:20191214
DTEND;VALUE=DATE:20191215
DTSTAMP:20200228T035052
CREATED:20190123T042207Z
LAST-MODIFIED:20190123T044402Z
UID:590-1576281600-1576367940@kingsgrovemusic.net.au
SUMMARY:End of Term 5 (tbc)
DESCRIPTION:Register for 2020 with a $50 deposit. \n
URL:http://kingsgrovemusic.net.au/event/end-of-term-5-tbc/
END:VEVENT
END:VCALENDAR